BEGIN:VCALENDAR
VERSION:2.0
PRODID:-//wp-events-plugin.com//7.2.3.1//EN
TZID:Europe/Berlin
X-WR-TIMEZONE:Europe/Berlin
BEGIN:VEVENT
UID:608@kreis-landfrauen-hildesheim.de
DTSTART;TZID=Europe/Berlin:20260521T133000
DTEND;TZID=Europe/Berlin:20260521T180000
DTSTAMP:20260115T090820Z
URL:https://kreis-landfrauen-hildesheim.de/termine/besichtigung-landtag-ha
 nnover/
SUMMARY:Besichtigung Landtag Hannover
DESCRIPTION:21.05.2026 - 13.30 Uhr Besichtigung Landtag Hannover\nAnschlie
 ßend Kaffeetrinken
ATTACH;FMTTYPE=image/jpeg:https://kreis-landfrauen-hildesheim.de/wp-conten
 t/uploads/2025/11/Favikon_Biene.png
CATEGORIES:Termine des Ortsverein LF Rössing-Barnten
LOCATION:Noch unbekannter Veranstaltungsort\, Anschrift wird noch bekannt g
 egeben\, ???\, Deutschland
X-APPLE-STRUCTURED-LOCATION;VALUE=URI;X-ADDRESS=Anschrift wird noch bekannt
  gegeben\, ???\, Deutschland;X-APPLE-RADIUS=100;X-TITLE=Noch unbekannter V
 eranstaltungsort:geo:0,0
END:VEVENT
BEGIN:VTIMEZONE
TZID:Europe/Berlin
X-LIC-LOCATION:Europe/Berlin
BEGIN:DAYLIGHT
DTSTART:20260329T030000
TZOFFSETFROM:+0100
TZOFFSETTO:+0200
TZNAME:CEST
END:DAYLIGHT
END:VTIMEZONE
END:VCALENDAR