BEGIN:VCALENDAR
VERSION:2.0
PRODID:-//wp-events-plugin.com//7.2.3.1//EN
TZID:Europe/Berlin
X-WR-TIMEZONE:Europe/Berlin
BEGIN:VEVENT
UID:606@kreis-landfrauen-hildesheim.de
DTSTART;TZID=Europe/Berlin:20260321T100000
DTEND;TZID=Europe/Berlin:20260321T130000
DTSTAMP:20260115T090513Z
URL:https://kreis-landfrauen-hildesheim.de/termine/fruehstueck-2/
SUMMARY:Frühstück
DESCRIPTION:21.03.2026 - 10.00 Uhr DGH Barnten\nFrühstück
ATTACH;FMTTYPE=image/jpeg:https://kreis-landfrauen-hildesheim.de/wp-conten
 t/uploads/2025/11/Favikon_Biene.png
CATEGORIES:Termine des Ortsverein LF Rössing-Barnten
LOCATION:DGH Barnten\, Glückaufstraße 1\, Nordstemmen\, 31171\, Deutschla
 nd
X-APPLE-STRUCTURED-LOCATION;VALUE=URI;X-ADDRESS=Glückaufstraße 1\, Nordst
 emmen\, 31171\, Deutschland;X-APPLE-RADIUS=100;X-TITLE=DGH Barnten:geo:0,0
END:VEVENT
BEGIN:VTIMEZONE
TZID:Europe/Berlin
X-LIC-LOCATION:Europe/Berlin
BEGIN:STANDARD
DTSTART:20251026T020000
TZOFFSETFROM:+0200
TZOFFSETTO:+0100
TZNAME:CET
END:STANDARD
END:VTIMEZONE
END:VCALENDAR