BEGIN:VCALENDAR
VERSION:2.0
PRODID:-//wp-events-plugin.com//7.2.3.1//EN
TZID:Europe/Berlin
X-WR-TIMEZONE:Europe/Berlin
BEGIN:VEVENT
UID:517@kreis-landfrauen-hildesheim.de
DTSTART;TZID=Europe/Berlin:20250829T180000
DTEND;TZID=Europe/Berlin:20250829T223000
DTSTAMP:20250826T123217Z
URL:https://kreis-landfrauen-hildesheim.de/termine/la-traviata-opernbesuch
 -in-braunschweig-mit-partner/
SUMMARY:„La Traviata“ Opernbesuch in Braunschweig – mit Partner
DESCRIPTION:Die "Verdi-Festspiele" gehen weiter. In diesem Jahr inszeniert 
 das Staatstheater Braun–schweig die wohl bekannteste Oper von Giuseppe V
 erdi   "La Traviata".\n\nWir fahren mit dem Bus nach Braunschweig\, um i
 m historischen Zentrum\, auf dem Burg–platz\, eine Opernaufführung in d
 er Openair-Arena zu erleben. Einen Sommerabend mit italienischem Flair\, f
 ast wie in Verona.\n\nAbfahrt:                      
           Holle 18:00 Uhr\, Baddeckenstedt 18:15 Uhr\,       
     Veranstaltungsende:          22:30 Uhr\n\nPreis:     
                                  74\,00 €
  incl. Busfahrt\, Eintritt u. Trinkgeld\n\nAnmeldung:           
               Rita Weise 0 53 45 / 4 96 58          
                   bis 25.07.2025\n\nDie Reisekosten sind 
 bei Anmeldung zu zahlen.
CATEGORIES:Termine des Ortsverein LF Wohldenberg
LOCATION:Bus Schulz Holle\, Marktstraße 2B\, Holle\, Niedersachsen\, 31188
 \, Deutschland
X-APPLE-STRUCTURED-LOCATION;VALUE=URI;X-ADDRESS=Marktstraße 2B\, Holle\, N
 iedersachsen\, 31188\, Deutschland;X-APPLE-RADIUS=100;X-TITLE=Bus Schulz H
 olle:geo:0,0
END:VEVENT
BEGIN:VTIMEZONE
TZID:Europe/Berlin
X-LIC-LOCATION:Europe/Berlin
BEGIN:DAYLIGHT
DTSTART:20250330T030000
TZOFFSETFROM:+0100
TZOFFSETTO:+0200
TZNAME:CEST
END:DAYLIGHT
END:VTIMEZONE
END:VCALENDAR