BEGIN:VCALENDAR
VERSION:2.0
PRODID:-//wp-events-plugin.com//7.2.3.1//EN
TZID:Europe/Berlin
X-WR-TIMEZONE:Europe/Berlin
BEGIN:VEVENT
UID:520@kreis-landfrauen-hildesheim.de
DTSTART;TZID=Europe/Berlin:20250926T150000
DTEND;TZID=Europe/Berlin:20250926T183000
DTSTAMP:20250103T124758Z
URL:https://kreis-landfrauen-hildesheim.de/termine/toepfern/
SUMMARY:Töpfern
DESCRIPTION:In der Töpferei von Klaus Einecke setzen wir uns kreativ mit 
 dem Werkstoff Ton auseinander.\n\nBitte mitbringen: Arbeitskleidung\, alte
    Handtücher\, ggf. Schürze\n\nReferenten:          Klaus Ei
 necke und Christine Klemet\, Diekholzen\n\nDauer:            
        ca. 3 Stunden\, plus Termin fürs Glasieren\n\nKosten:   
               20\,00 €\n\nAnmeldung:         Iris Op
 permann\, Tel. 0 53 45 / 13 97                      
        bis 10.09.2025
ATTACH;FMTTYPE=image/jpeg:https://kreis-landfrauen-hildesheim.de/wp-conten
 t/uploads/2025/01/1000108900-scaled.jpg
CATEGORIES:Termine des Ortsverein LF Wohldenberg
LOCATION:Töpferei Einecke\, Broyhansweg 22\, Diekholzen\, 31199\, Deutschl
 and
X-APPLE-STRUCTURED-LOCATION;VALUE=URI;X-ADDRESS=Broyhansweg 22\, Diekholzen
 \, 31199\, Deutschland;X-APPLE-RADIUS=100;X-TITLE=Töpferei Einecke:geo:0,
 0
END:VEVENT
BEGIN:VTIMEZONE
TZID:Europe/Berlin
X-LIC-LOCATION:Europe/Berlin
BEGIN:DAYLIGHT
DTSTART:20250330T030000
TZOFFSETFROM:+0100
TZOFFSETTO:+0200
TZNAME:CEST
END:DAYLIGHT
END:VTIMEZONE
END:VCALENDAR